BEGIN:VCALENDAR
VERSION:2.0
PRODID:-//National Veterans Wellness and Healing Center - ECPv6.15.20//NONSGML v1.0//EN
CALSCALE:GREGORIAN
METHOD:PUBLISH
X-WR-CALNAME:National Veterans Wellness and Healing Center
X-ORIGINAL-URL:https://veteranswellnessandhealing.org
X-WR-CALDESC:Events for National Veterans Wellness and Healing Center
REFRESH-INTERVAL;VALUE=DURATION:PT1H
X-Robots-Tag:noindex
X-PUBLISHED-TTL:PT1H
BEGIN:VTIMEZONE
TZID:America/Denver
BEGIN:DAYLIGHT
TZOFFSETFROM:-0700
TZOFFSETTO:-0600
TZNAME:MDT
DTSTART:20240310T090000
END:DAYLIGHT
BEGIN:STANDARD
TZOFFSETFROM:-0600
TZOFFSETTO:-0700
TZNAME:MST
DTSTART:20241103T080000
END:STANDARD
BEGIN:DAYLIGHT
TZOFFSETFROM:-0700
TZOFFSETTO:-0600
TZNAME:MDT
DTSTART:20250309T090000
END:DAYLIGHT
BEGIN:STANDARD
TZOFFSETFROM:-0600
TZOFFSETTO:-0700
TZNAME:MST
DTSTART:20251102T080000
END:STANDARD
BEGIN:DAYLIGHT
TZOFFSETFROM:-0700
TZOFFSETTO:-0600
TZNAME:MDT
DTSTART:20260308T090000
END:DAYLIGHT
BEGIN:STANDARD
TZOFFSETFROM:-0600
TZOFFSETTO:-0700
TZNAME:MST
DTSTART:20261101T080000
END:STANDARD
BEGIN:DAYLIGHT
TZOFFSETFROM:-0700
TZOFFSETTO:-0600
TZNAME:MDT
DTSTART:20270314T090000
END:DAYLIGHT
BEGIN:STANDARD
TZOFFSETFROM:-0600
TZOFFSETTO:-0700
TZNAME:MST
DTSTART:20271107T080000
END:STANDARD
END:VTIMEZONE
BEGIN:VEVENT
DTSTART;VALUE=DATE:20250406
DTEND;VALUE=DATE:20250414
DTSTAMP:20260419T204646
CREATED:20241202T175646Z
LAST-MODIFIED:20241202T175646Z
UID:4616-1743897600-1744588799@veteranswellnessandhealing.org
SUMMARY:Spring Retreat #1 2025
DESCRIPTION:
URL:https://veteranswellnessandhealing.org/event/spring-retreat-1-2025/
LOCATION:Angel Fire\, NM
CATEGORIES:Retreats
END:VEVENT
BEGIN:VEVENT
DTSTART;VALUE=DATE:20250427
DTEND;VALUE=DATE:20250505
DTSTAMP:20260419T204646
CREATED:20240920T185344Z
LAST-MODIFIED:20241202T175602Z
UID:4578-1745712000-1746403199@veteranswellnessandhealing.org
SUMMARY:Spring Retreat #2 2025
DESCRIPTION:
URL:https://veteranswellnessandhealing.org/event/spring-retreat-2-2025/
LOCATION:Angel Fire\, NM
CATEGORIES:Retreats
END:VEVENT
BEGIN:VEVENT
DTSTART;VALUE=DATE:20250601
DTEND;VALUE=DATE:20250609
DTSTAMP:20260419T204646
CREATED:20240920T185434Z
LAST-MODIFIED:20240920T185434Z
UID:4580-1748736000-1749427199@veteranswellnessandhealing.org
SUMMARY:Summer Retreat 2025
DESCRIPTION:
URL:https://veteranswellnessandhealing.org/event/summer-retreat-2025/
LOCATION:Angel Fire\, NM
CATEGORIES:Retreats
END:VEVENT
BEGIN:VEVENT
DTSTART;TZID=America/Denver:20250829T170000
DTEND;TZID=America/Denver:20250829T190000
DTSTAMP:20260419T204646
CREATED:20250703T202650Z
LAST-MODIFIED:20250703T202650Z
UID:4632-1756486800-1756494000@veteranswellnessandhealing.org
SUMMARY:Cool Summer Nights Concert at Liberty Square
DESCRIPTION:Cool Summer Nights Concert at Liberty Square
URL:https://veteranswellnessandhealing.org/event/cool-summer-nights-concert-at-liberty-square/
LOCATION:Liberty Square\, Angel Fire NM
CATEGORIES:Special Events
END:VEVENT
BEGIN:VEVENT
DTSTART;TZID=America/Denver:20250830T083000
DTEND;TZID=America/Denver:20250830T150000
DTSTAMP:20260419T204646
CREATED:20250703T202816Z
LAST-MODIFIED:20250703T202816Z
UID:4635-1756542600-1756566000@veteranswellnessandhealing.org
SUMMARY:2025 Brick laying Ceremony
DESCRIPTION:
URL:https://veteranswellnessandhealing.org/event/2025-brick-laying-ceremony/
LOCATION:Vietnam Veterans Memorial\, 34 Country Club Rd\, Angel Fire\, NM\, 87710\, United States
CATEGORIES:Special Events
END:VEVENT
BEGIN:VEVENT
DTSTART;TZID=America/Denver:20250830T110000
DTEND;TZID=America/Denver:20250830T130000
DTSTAMP:20260419T204646
CREATED:20250703T202936Z
LAST-MODIFIED:20250704T020634Z
UID:4637-1756551600-1756558800@veteranswellnessandhealing.org
SUMMARY:2025 Veteran Family BBQ Luncheon
DESCRIPTION:Veteran Family BBQ Luncheon  NVWHC Office next to Vietnam Veterans Memorial. Suggested donation $10 per plate
URL:https://veteranswellnessandhealing.org/event/2025-veteran-family-bbq-luncheon/
LOCATION:NCWHC Office
CATEGORIES:Fundraisers
END:VEVENT
BEGIN:VEVENT
DTSTART;TZID=America/Denver:20250830T170000
DTEND;TZID=America/Denver:20250830T200000
DTSTAMP:20260419T204646
CREATED:20250703T203027Z
LAST-MODIFIED:20250703T203027Z
UID:4640-1756573200-1756584000@veteranswellnessandhealing.org
SUMMARY:2025 Military Family Weekend Concert at Liberty Square
DESCRIPTION:Military Family Weekend Concert at Liberty Square
URL:https://veteranswellnessandhealing.org/event/2025-military-family-weekend-concert-at-liberty-square/
LOCATION:Liberty Square\, Angel Fire NM
CATEGORIES:Special Events
END:VEVENT
BEGIN:VEVENT
DTSTART;TZID=America/Denver:20250831T080000
DTEND;TZID=America/Denver:20250831T140000
DTSTAMP:20260419T204646
CREATED:20250703T203224Z
LAST-MODIFIED:20250703T203224Z
UID:4644-1756627200-1756648800@veteranswellnessandhealing.org
SUMMARY:2025 NVWHC 5K  at the Angel Fire Airport
DESCRIPTION:
URL:https://veteranswellnessandhealing.org/event/2025-nvwhc-5k-at-the-angel-fire-airport/
LOCATION:Angel Fire Airport\, 3570 Hwy 434\, Angel Fire\, NM\, 87710\, United States
CATEGORIES:Fundraisers
END:VEVENT
BEGIN:VEVENT
DTSTART;TZID=America/Denver:20250831T143000
DTEND;TZID=America/Denver:20250831T160000
DTSTAMP:20260419T204646
CREATED:20250703T203120Z
LAST-MODIFIED:20250703T203120Z
UID:4642-1756650600-1756656000@veteranswellnessandhealing.org
SUMMARY:2025 Sunday Military Family Weekend Concert Liberty Square
DESCRIPTION:
URL:https://veteranswellnessandhealing.org/event/2025-sunday-military-family-weekend-concert-liberty-square/
LOCATION:Liberty Square\, Angel Fire NM
CATEGORIES:Special Events
END:VEVENT
BEGIN:VEVENT
DTSTART;VALUE=DATE:20250907
DTEND;VALUE=DATE:20250915
DTSTAMP:20260419T204646
CREATED:20240920T185520Z
LAST-MODIFIED:20240920T185520Z
UID:4582-1757203200-1757894399@veteranswellnessandhealing.org
SUMMARY:Fall Retreat #1 2025
DESCRIPTION:
URL:https://veteranswellnessandhealing.org/event/fall-retreat-1-2025/
LOCATION:Angel Fire\, NM
CATEGORIES:Retreats
END:VEVENT
BEGIN:VEVENT
DTSTART;VALUE=DATE:20251019
DTEND;VALUE=DATE:20251027
DTSTAMP:20260419T204646
CREATED:20240920T185607Z
LAST-MODIFIED:20240920T185607Z
UID:4584-1760832000-1761523199@veteranswellnessandhealing.org
SUMMARY:Fall Retreat #2 2025
DESCRIPTION:
URL:https://veteranswellnessandhealing.org/event/fall-retreat-2-2025/
CATEGORIES:Retreats
END:VEVENT
BEGIN:VEVENT
DTSTART;VALUE=DATE:20260412
DTEND;VALUE=DATE:20260420
DTSTAMP:20260419T204646
CREATED:20251011T233549Z
LAST-MODIFIED:20251011T233549Z
UID:4658-1775952000-1776643199@veteranswellnessandhealing.org
SUMMARY:Spring Retreat #1 2026
DESCRIPTION:
URL:https://veteranswellnessandhealing.org/event/spring-retreat-1-2026/
LOCATION:Angel Fire\, NM
CATEGORIES:Retreats
END:VEVENT
BEGIN:VEVENT
DTSTART;VALUE=DATE:20260503
DTEND;VALUE=DATE:20260511
DTSTAMP:20260419T204646
CREATED:20251011T233635Z
LAST-MODIFIED:20251011T233635Z
UID:4660-1777766400-1778457599@veteranswellnessandhealing.org
SUMMARY:Spring Retreat #2 2026
DESCRIPTION:
URL:https://veteranswellnessandhealing.org/event/spring-retreat-2-2026/
LOCATION:Angel Fire\, NM
CATEGORIES:Retreats
END:VEVENT
BEGIN:VEVENT
DTSTART;VALUE=DATE:20260607
DTEND;VALUE=DATE:20260615
DTSTAMP:20260419T204646
CREATED:20251011T233712Z
LAST-MODIFIED:20251011T233712Z
UID:4662-1780790400-1781481599@veteranswellnessandhealing.org
SUMMARY:Summer Retreat 2026
DESCRIPTION:
URL:https://veteranswellnessandhealing.org/event/summer-retreat-2026/
CATEGORIES:Retreats
END:VEVENT
BEGIN:VEVENT
DTSTART;VALUE=DATE:20260823
DTEND;VALUE=DATE:20260831
DTSTAMP:20260419T204646
CREATED:20251011T233754Z
LAST-MODIFIED:20251011T233754Z
UID:4664-1787443200-1788134399@veteranswellnessandhealing.org
SUMMARY:Fall Retreat #1 2026
DESCRIPTION:
URL:https://veteranswellnessandhealing.org/event/fall-retreat-1-2026/
LOCATION:Angel Fire\, NM
CATEGORIES:Retreats
END:VEVENT
BEGIN:VEVENT
DTSTART;VALUE=DATE:20260913
DTEND;VALUE=DATE:20260921
DTSTAMP:20260419T204646
CREATED:20251011T233833Z
LAST-MODIFIED:20251011T233833Z
UID:4666-1789257600-1789948799@veteranswellnessandhealing.org
SUMMARY:Fall Retreat #2 2026
DESCRIPTION:
URL:https://veteranswellnessandhealing.org/event/fall-retreat-2-2026/
LOCATION:Angel Fire\, NM
CATEGORIES:Retreats
END:VEVENT
END:VCALENDAR